BEGIN:VCALENDAR
VERSION:2.0
PRODID:-//Minnesota Independent Scholars Forum - ECPv6.15.20//NONSGML v1.0//EN
CALSCALE:GREGORIAN
METHOD:PUBLISH
X-ORIGINAL-URL:https://mnindependentscholars.org
X-WR-CALDESC:Events for Minnesota Independent Scholars Forum
REFRESH-INTERVAL;VALUE=DURATION:PT1H
X-Robots-Tag:noindex
X-PUBLISHED-TTL:PT1H
BEGIN:VTIMEZONE
TZID:UTC
BEGIN:STANDARD
TZOFFSETFROM:+0000
TZOFFSETTO:+0000
TZNAME:UTC
DTSTART:20240101T000000
END:STANDARD
END:VTIMEZONE
BEGIN:VEVENT
DTSTART;TZID=UTC:20250514T190000
DTEND;TZID=UTC:20250514T210000
DTSTAMP:20260420T113020
CREATED:20250415T011531Z
LAST-MODIFIED:20250415T011754Z
UID:3318-1747249200-1747256400@mnindependentscholars.org
SUMMARY:Philosophy Study Group
DESCRIPTION:We will finish discussing Simone de Beauvoir’s attempt to build an ethical system for existentialist philosophy\, The Ethics of Ambiguity. Not a few people didn’t think it was possible. Did she succeed? This is for you to decide\, and we’re very interested in what you think. We’re even more interested in how this might fit into your own personal ethical system and how you justify that. If it’s just that you think you deserve more than everyone else\, we have some work to do.\nCurt
URL:https://mnindependentscholars.org/event/philosophy-study-group-81/
LOCATION:via Zoom
CATEGORIES:Philosophy
ATTACH;FMTTYPE=image/jpeg:https://mnindependentscholars.org/wp-content/uploads/2025/03/The-Ethics-of-Abiguity.jpg
END:VEVENT
END:VCALENDAR