BEGIN:VCALENDAR
VERSION:2.0
PRODID:-//Minnesota Independent Scholars Forum - ECPv6.15.20//NONSGML v1.0//EN
CALSCALE:GREGORIAN
METHOD:PUBLISH
X-ORIGINAL-URL:https://mnindependentscholars.org
X-WR-CALDESC:Events for Minnesota Independent Scholars Forum
REFRESH-INTERVAL;VALUE=DURATION:PT1H
X-Robots-Tag:noindex
X-PUBLISHED-TTL:PT1H
BEGIN:VTIMEZONE
TZID:UTC
BEGIN:STANDARD
TZOFFSETFROM:+0000
TZOFFSETTO:+0000
TZNAME:UTC
DTSTART:20250101T000000
END:STANDARD
END:VTIMEZONE
BEGIN:VEVENT
DTSTART;TZID=UTC:20260408T190000
DTEND;TZID=UTC:20260408T210000
DTSTAMP:20260421T101226
CREATED:20260408T032044Z
LAST-MODIFIED:20260408T032044Z
UID:3618-1775674800-1775682000@mnindependentscholars.org
SUMMARY:Philosophy Study Group
DESCRIPTION:We are finishing our discussion of the book\, The Subversive Simone Weil: A Life in Five Ideas\, by Robert Zaretsky. The last parts of the book cover Weil’s concepts of rootedness and her own mystical version of Catholicism. Even though most people aren’t convinced by the latter\, they still regard her analysis of social roots as her primary contribution to philosophy. However you may feel\, we hope you’re rooting for us as we dig into her ideas.\nCurt
URL:https://mnindependentscholars.org/event/philosophy-study-group-92/
LOCATION:via Zoom
CATEGORIES:Philosophy
ATTACH;FMTTYPE=image/webp:https://mnindependentscholars.org/wp-content/uploads/2026/02/The-Subversive-Simone-Weil-A-Life-in-Five-Ideas-.webp
END:VEVENT
END:VCALENDAR