BEGIN:VCALENDAR
VERSION:2.0
PRODID:-//Minnesota Independent Scholars Forum - ECPv6.15.20//NONSGML v1.0//EN
CALSCALE:GREGORIAN
METHOD:PUBLISH
X-WR-CALNAME:Minnesota Independent Scholars Forum
X-ORIGINAL-URL:https://mnindependentscholars.org
X-WR-CALDESC:Events for Minnesota Independent Scholars Forum
REFRESH-INTERVAL;VALUE=DURATION:PT1H
X-Robots-Tag:noindex
X-PUBLISHED-TTL:PT1H
BEGIN:VTIMEZONE
TZID:UTC
BEGIN:STANDARD
TZOFFSETFROM:+0000
TZOFFSETTO:+0000
TZNAME:UTC
DTSTART:20250101T000000
END:STANDARD
END:VTIMEZONE
BEGIN:VEVENT
DTSTART;TZID=UTC:20260516T100000
DTEND;TZID=UTC:20260516T120000
DTSTAMP:20260419T142857
CREATED:20260415T165652Z
LAST-MODIFIED:20260415T165652Z
UID:3629-1778925600-1778932800@mnindependentscholars.org
SUMMARY:Poetry Day
DESCRIPTION:Morgan will do a retrospective reading\, a sort of live-time selected and new gathering of poems highlighting work from different periods in her life as a poet. She will also share examples of her explorations into the book arts\, including her artist book Collage for Mina Loy and Stitch by Stitch\, the anthology which accompanied the Quilt\, Not Quilt exhibition at Minnesota Center for Book Arts \n\n\n\n\nMorgan has published poetry collections and chapbooks with titles such as Dodge & Scramble\, Between\, Silk\, Oddly Enough\, The Maps are Words\, Arpeggio of Appetite\, and Spinnerets. The journals and anthologies in which her poetry has appeared include: Ecopoetics; Resist Much/Obey Little; Queer Voices (Minnesota Historical Society Press); Water~Stone Review; Saint Paul Almanac; When We Become Weavers: Queer Female Poets on the Midwestern Experience; About Place Journal. Morgan’s creative nonfiction publications include “Riding Shotgun for Stanley Home Products” in Riding Shotgun: Women Write About Their Mothers (MHS/Borealis Books). Her essay “Signs of the Time” earned an honorable mention in the inaugural Judith Kitchen Prize in Water~Stone Review #14\, and her lyric essay “(Un)Document(ing)\,” which appeared in Water~Stone Review #22\, was nominated for a Pushcart prize. Her work has garnered awards from the Minnesota State Arts Board\, the McKnight Foundation\, the Jerome Foundation\, and the Witter Bynner Foundation. \nA student of the book arts\, Morgan completed the core certificate program at Minnesota Center for Book Arts (MCBA) and exhibited her artist’s book Collage for Mina Loy in 2016. She collaborated with three other poets in composing and hand crafting the limited edition chapbook Stitch by Stitch which accompanied Quilt\, Not Quit: The Afterlife\, an exhibition at MCBA in 2018. Morgan’s collages have been published online in Concision Poetry Magazine as well as in print in Saint Paul Almanac\, Volume 13. \nMorgan serves as teaching artist with The Loft Literary Center as well as the COMPAS Artful Aging program. Currently\, she is co-editing the anthology Nick of Time: Women Write about Art & Aging\, forthcoming from the University of Minnesota Press in fall 2026.
URL:https://mnindependentscholars.org/event/poetry-day-4/
LOCATION:Bethlehem Lutheran Church – Commons Room\, 41st and Lyndale\, Minneapolis
CATEGORIES:Monthly Forum
ATTACH;FMTTYPE=image/jpeg:https://mnindependentscholars.org/wp-content/uploads/2025/03/Poetry-Day.jpg
END:VEVENT
END:VCALENDAR